BEGIN:VCALENDAR
VERSION:2.0
PRODID:-//urbanstudio//ICS Generator//EN
CALSCALE:GREGORIAN
METHOD:PUBLISH
BEGIN:VEVENT
UID:930c702a-6878-408d-ae3d-a5e4bfe02008
DTSTAMP:20260419T115817Z
SEQUENCE:0
SUMMARY:Refresher-Kurs - RADUCATION VI - Uroradiologie: Prostata
DTSTART;TZID=Europe/Berlin:20230624T124500
DTEND;TZID=Europe/Berlin:20230624T134500
DESCRIPTION:Online-Veranstaltung des 104. Deutscher Röntgenkongress\n\nPro
 gramm:\n\n- Prostata Physiologie\, Hyperplasie und Inflammationen (Lernziel
 e 187\, 181)\n- Prostatakarzinom in der multiparametrischen MRT (Lernziel 1
 82)\n- Diskussion\n\nWeitere Informationen: https://2023.roentgenkongress.d
 e/veranstaltung/raducation-vi-uroradiologie-prostata/\n\n\nZoom-Link: https
 ://2023.roentgenkongress.de/veranstaltung/raducation-vi-uroradiologie-prost
 ata/
LOCATION:https://2023.roentgenkongress.de/veranstaltung/raducation-vi-urora
 diologie-prostata/
URL:https://2023.roentgenkongress.de/veranstaltung/raducation-vi-uroradiolo
 gie-prostata/
BEGIN:VALARM
TRIGGER:-PT15M
ACTION:DISPLAY
DESCRIPTION:Erinnerung
END:VALARM
COMMENT: (Ihre Notizen)
END:VEVENT
BEGIN:VTIMEZONE
TZID:Europe/Berlin
BEGIN:DAYLIGHT
TZOFFSETFROM:+0100
TZOFFSETTO:+0200
TZNAME:Daylight
DTSTART:19700329T020000
RRULE:FREQ=YEARLY;BYMONTH=3;BYDAY=-1SU
END:DAYLIGHT
BEGIN:STANDARD
TZOFFSETFROM:+0200
TZOFFSETTO:+0100
TZNAME:Standard
DTSTART:19701025T030000
RRULE:FREQ=YEARLY;BYMONTH=10;BYDAY=-1SU
END:STANDARD
END:VTIMEZONE
END:VCALENDAR
