BEGIN:VCALENDAR
VERSION:2.0
PRODID:-//urbanstudio//ICS Generator//EN
CALSCALE:GREGORIAN
METHOD:PUBLISH
BEGIN:VEVENT
UID:b8af6d66-6a83-46b4-92d4-83035791ee20
DTSTAMP:20260425T113657Z
SEQUENCE:0
SUMMARY:WISS 307 - Onkologische Bildgebung VI - KI
DTSTART;TZID=Europe/Berlin:20230519T151500
DTEND;TZID=Europe/Berlin:20230519T161500
DESCRIPTION:Veranstaltung des 104. Deutscher Röntgenkongress\n\nProgramm:\
 n\n- Deep learning und Radiomics zur Vorhersage von Knochenmarks-Biopsieerg
 ebnissen aus dem MRT bei Patienten mit Multiplem Myelom – eine multizentr
 ische Studie\n- Deep Learning und Radiomics zur automatischen\, objektiven\
 , umfassenden Knochenmarkscharakterisierung aus Ganzkörper-MRTs – eine m
 ultizentrische Machbarkeitsstudie\n- Automatisierte Segmentation von Nieren
 tumoren mittels Deep Learning: eine multizentrische Bildgebungsstudie.\n- R
 adiomics und Maschinelles Lernen zur Subtypisierung von Nierentumoren in de
 r CT: eine multizentrische Bildgebungsstudie mit unabhängiger Validierung.
  \n- Deep Learning: Ist eine Vorhersage des Ansprechens von lokal fortgesch
 rittenen Rektumkarzinomen auf eine nCRT basierend auf prätherapeutischen T
 2w-MRT Aufnahmen in einer Multizenterstudie möglich?\n- Muskelqualität in
  der CT als prädiktiver Biomarker für kolorektale Tumorchirurgie\n- Struk
 turierte\, kriterienbasierte Diagnostik des NSCLC als Grundlage von Clinica
 l Decision Support Systemen\n- Diskussion\n\nWeitere Informationen: https:/
 /2023.roentgenkongress.de/veranstaltung/onkologische-bildgebung-vi-ki/\n
LOCATION:Terrassensaal C\, Rhein-Main CongressCenter\, Wiesbaden
BEGIN:VALARM
TRIGGER:-PT15M
ACTION:DISPLAY
DESCRIPTION:Erinnerung
END:VALARM
COMMENT: (Ihre Notizen)
END:VEVENT
BEGIN:VTIMEZONE
TZID:Europe/Berlin
BEGIN:DAYLIGHT
TZOFFSETFROM:+0100
TZOFFSETTO:+0200
TZNAME:Daylight
DTSTART:19700329T020000
RRULE:FREQ=YEARLY;BYMONTH=3;BYDAY=-1SU
END:DAYLIGHT
BEGIN:STANDARD
TZOFFSETFROM:+0200
TZOFFSETTO:+0100
TZNAME:Standard
DTSTART:19701025T030000
RRULE:FREQ=YEARLY;BYMONTH=10;BYDAY=-1SU
END:STANDARD
END:VTIMEZONE
END:VCALENDAR
