BEGIN:VCALENDAR
VERSION:2.0
PRODID:-//urbanstudio//ICS Generator//EN
CALSCALE:GREGORIAN
METHOD:PUBLISH
BEGIN:VEVENT
UID:f2242abc-42e0-ab2f-edec-af7064514409
DTSTAMP:20260422T021251Z
SEQUENCE:0
SUMMARY:PO - Muskulo  - Muskuloskelettale Radiologie - Photon Counting CT u
 nd Cone Beam CT
DTSTART;TZID=Europe/Berlin:20230518T113000
DTEND;TZID=Europe/Berlin:20230518T121000
DESCRIPTION:Veranstaltung des 104. Deutscher Röntgenkongress\n\nProgramm:\
 n\n- Beurteilung von intraartikulären Radiuskopffrakturen in der CT: Die Q
 uadranten-Methode als Ergänzung zur Mason-Klassifikation\n- Einsatz eines 
 quantitativen iterativen Rekonstruktionsalgorithmus zur Optimierung der Bil
 dqualität in der ultra-hochauflösenden Photon-Counting-Computertomographi
 e der Hüfte\n- Vergleich der Bildqualität zwischen Photon-Counting-Detekt
 or-CT und Energy-Integrating-Detektor-CT für die Untersuchung von Leichens
 chultern\n- Vorteile der hochauflösenden Cone-Beam-CT bei der diagnostisch
 en Beurteilung schwerer Handgelenkstraumata \n- “One-Stop-Shop” Cone-Be
 am CT-Arthrographie des Handgelenkes: Ein teleskoparm-unterstütztes Röntg
 ensystem ermöglicht hohe Bildqualität bei kurzer Untersuchungszeit \n- Di
 skussion\n\nWeitere Informationen: https://2023.roentgenkongress.de/veranst
 altung/muskuloskelettale-radiologie-photon-counting-ct-und-cone-beam-ct/\n
LOCATION:ePoster-Station\, Rhein-Main CongressCenter\, Wiesbaden
BEGIN:VALARM
TRIGGER:-PT15M
ACTION:DISPLAY
DESCRIPTION:Erinnerung
END:VALARM
COMMENT: (Ihre Notizen)
END:VEVENT
BEGIN:VTIMEZONE
TZID:Europe/Berlin
BEGIN:DAYLIGHT
TZOFFSETFROM:+0100
TZOFFSETTO:+0200
TZNAME:Daylight
DTSTART:19700329T020000
RRULE:FREQ=YEARLY;BYMONTH=3;BYDAY=-1SU
END:DAYLIGHT
BEGIN:STANDARD
TZOFFSETFROM:+0200
TZOFFSETTO:+0100
TZNAME:Standard
DTSTART:19701025T030000
RRULE:FREQ=YEARLY;BYMONTH=10;BYDAY=-1SU
END:STANDARD
END:VTIMEZONE
END:VCALENDAR
