BEGIN:VCALENDAR
VERSION:2.0
PRODID:-//urbanstudio//ICS Generator//EN
CALSCALE:GREGORIAN
METHOD:PUBLISH
BEGIN:VEVENT
UID:04beab10-ee58-4cd7-b16d-527b630f155f
DTSTAMP:20260423T231824Z
SEQUENCE:0
SUMMARY:WISS 205 - Interventionelle Radiologie VI - Bildgebung zur interven
 tionellen Behandlungsplanung: Leber
DTSTART;TZID=Europe/Berlin:20230518T150000
DTEND;TZID=Europe/Berlin:20230518T161500
DESCRIPTION:Veranstaltung des 104. Deutscher Röntgenkongress\n\nProgramm:\
 n\n- Morphologische Evaluation der Ablationsareale nach CT-gesteuerter Mikr
 owellenablation von Lebertumoren \n- Radiomics-basiertes Vorhersagemodell f
 ür das Therapieansprechen der Radioembolisation und Überleben bei hepatis
 ch metastasiertem kolorektalen Karzinom\n- Verbesserte Darstellung hepatisc
 her Läsionen bei MRT-gesteuerten Thermoablationen durch T1-inversion-recov
 ery Bildgebung mit variabler Inversionszeit\n- miR-21 als prognostischer Bi
 omarker bei mit CT-geführter Hochdosis-Brachytherapie behandeltem HCC\n- M
 ilzvolumen als prognostischer Faktor bei Patienten mit portaler Hypertensio
 n und TIPS-Implantation\n- Nicht-invasive Evaluation des portosystemischen 
 Druckgradienten bei TIPS-Patienten mittels 4D Fluss MRT und Computational F
 luid Dynamics\n- Lebervolumetrie zur Evaluation des Therapieansprechens auf
  eine Leberarterienchemoinfusion im Vergleich zu den RECIST 1.1-Kriterien b
 ei Aderhautmelanompatienten mit Lebermetastasen\n- Prädiktion der Hypertro
 phie der future remnant liver nach Pfortaderembolisation\n- Vergleich der G
 d-EOB-DTPA-verstärkten MRT und der hepatobiliären 99mTc-Mebrofenin-Szinti
 graphie zur Messung der regionalen Leberfunktion nach Induktion einer Hyper
 trophie durch Radioembolisation\n- Diskussion\n\nWeitere Informationen: htt
 ps://2023.roentgenkongress.de/veranstaltung/interventionelle-radiologie-vi-
 bildgebung-zur-interventionellen-behandlungsplanung-leber/\n
LOCATION:Studio 1.2 A+B\, Rhein-Main CongressCenter\, Wiesbaden
BEGIN:VALARM
TRIGGER:-PT15M
ACTION:DISPLAY
DESCRIPTION:Erinnerung
END:VALARM
COMMENT: (Ihre Notizen)
END:VEVENT
BEGIN:VTIMEZONE
TZID:Europe/Berlin
BEGIN:DAYLIGHT
TZOFFSETFROM:+0100
TZOFFSETTO:+0200
TZNAME:Daylight
DTSTART:19700329T020000
RRULE:FREQ=YEARLY;BYMONTH=3;BYDAY=-1SU
END:DAYLIGHT
BEGIN:STANDARD
TZOFFSETFROM:+0200
TZOFFSETTO:+0100
TZNAME:Standard
DTSTART:19701025T030000
RRULE:FREQ=YEARLY;BYMONTH=10;BYDAY=-1SU
END:STANDARD
END:VTIMEZONE
END:VCALENDAR
