BEGIN:VCALENDAR
VERSION:2.0
PRODID:-//urbanstudio//ICS Generator//EN
CALSCALE:GREGORIAN
METHOD:PUBLISH
BEGIN:VEVENT
UID:a95910e5-89e4-40e9-a1e9-e79c604f7e96
DTSTAMP:20260420T000322Z
SEQUENCE:0
SUMMARY:RK/WISS 202 - Interventionelle Radiologie II - Im Fokus: Lungenembo
 lie - Interdisziplinäre Therapie-Konzepte
DTSTART;TZID=Europe/Berlin:20230518T083000
DTEND;TZID=Europe/Berlin:20230518T100000
DESCRIPTION:Veranstaltung des 104. Deutscher Röntgenkongress\n\nProgramm:\
 n\n- AI-Rekonstruktion verbessert Bildqualität und ermöglicht signifikant
 e Dosisreduktion der interventionellen Cone Beam CT bei Bronchialarterienem
 bolisation. \n- Beckenvenenthrombose und Lungenembolie - wann brauche ich d
 en Interventionalisten\n- Interventionelle Therapie der akuten Lungenemboli
 e\n- Podiumsdiskussion\n\nWeitere Informationen: https://2023.roentgenkongr
 ess.de/veranstaltung/interventionelle-radiologie-ii-im-fokus-lungenembolie-
 interdisziplinaere-therapie-konzepte/\n
LOCATION:Studio 1.2 A+B\, Rhein-Main CongressCenter\, Wiesbaden
BEGIN:VALARM
TRIGGER:-PT15M
ACTION:DISPLAY
DESCRIPTION:Erinnerung
END:VALARM
COMMENT: (Ihre Notizen)
END:VEVENT
BEGIN:VTIMEZONE
TZID:Europe/Berlin
BEGIN:DAYLIGHT
TZOFFSETFROM:+0100
TZOFFSETTO:+0200
TZNAME:Daylight
DTSTART:19700329T020000
RRULE:FREQ=YEARLY;BYMONTH=3;BYDAY=-1SU
END:DAYLIGHT
BEGIN:STANDARD
TZOFFSETFROM:+0200
TZOFFSETTO:+0100
TZNAME:Standard
DTSTART:19701025T030000
RRULE:FREQ=YEARLY;BYMONTH=10;BYDAY=-1SU
END:STANDARD
END:VTIMEZONE
END:VCALENDAR
