BEGIN:VCALENDAR
VERSION:2.0
PRODID:-//urbanstudio//ICS Generator//EN
CALSCALE:GREGORIAN
METHOD:PUBLISH
BEGIN:VEVENT
UID:f5d53e6e-f7fc-dd60-e41b-e46ee646c9fe
DTSTAMP:20260422T210103Z
SEQUENCE:0
SUMMARY:IND Pitch - IND-Pitch - Digithurst Bildverarbeitungssysteme GmbH & 
 Co. KG
DTSTART;TZID=Europe/Berlin:20230518T150000
DTEND;TZID=Europe/Berlin:20230518T151500
DESCRIPTION:Industrie-Symposien auf dem 104. Deutscher Röntgenkongress\n\n
 Programm:\n\n\nWeitere Informationen: https://2023.roentgenkongress.de/vera
 nstaltung/ind-pitch-digithurst-bildverarbeitungssysteme-gmbh-co-kg/\n
LOCATION:Forum Beruf\, Rhein-Main CongressCenter\, Wiesbaden
BEGIN:VALARM
TRIGGER:-PT15M
ACTION:DISPLAY
DESCRIPTION:Erinnerung
END:VALARM
COMMENT: (Ihre Notizen)
END:VEVENT
BEGIN:VTIMEZONE
TZID:Europe/Berlin
BEGIN:DAYLIGHT
TZOFFSETFROM:+0100
TZOFFSETTO:+0200
TZNAME:Daylight
DTSTART:19700329T020000
RRULE:FREQ=YEARLY;BYMONTH=3;BYDAY=-1SU
END:DAYLIGHT
BEGIN:STANDARD
TZOFFSETFROM:+0200
TZOFFSETTO:+0100
TZNAME:Standard
DTSTART:19701025T030000
RRULE:FREQ=YEARLY;BYMONTH=10;BYDAY=-1SU
END:STANDARD
END:VTIMEZONE
END:VCALENDAR
