BEGIN:VCALENDAR
VERSION:2.0
PRODID:-//urbanstudio//ICS Generator//EN
CALSCALE:GREGORIAN
METHOD:PUBLISH
BEGIN:VEVENT
UID:f997c386-9752-af31-326a-4ec909af6b5f
DTSTAMP:20260420T081823Z
SEQUENCE:0
SUMMARY:IND-WS 208 - HOLOGIC - Tomosynthese und Smarte AI Solutions in der 
 modernen Mamma-Diagnostik
DTSTART;TZID=Europe/Berlin:20230518T133000
DTEND;TZID=Europe/Berlin:20230518T150000
DESCRIPTION:Industrie-Workshop auf dem 104. Deutscher Röntgenkongress\nEin
 e Veranstaltung von: \n\nProgramm:\n\n\nWeitere Informationen: https://2023
 .roentgenkongress.de/veranstaltung/hologic-tomosynthese-und-smarte-ai-solut
 ions-in-der-modernen-mamma-diagnostik-1/\n
LOCATION:Loge 1.1\, Rhein-Main CongressCenter\, Wiesbaden
BEGIN:VALARM
TRIGGER:-PT15M
ACTION:DISPLAY
DESCRIPTION:Erinnerung
END:VALARM
COMMENT: (Ihre Notizen)
END:VEVENT
BEGIN:VTIMEZONE
TZID:Europe/Berlin
BEGIN:DAYLIGHT
TZOFFSETFROM:+0100
TZOFFSETTO:+0200
TZNAME:Daylight
DTSTART:19700329T020000
RRULE:FREQ=YEARLY;BYMONTH=3;BYDAY=-1SU
END:DAYLIGHT
BEGIN:STANDARD
TZOFFSETFROM:+0200
TZOFFSETTO:+0100
TZNAME:Standard
DTSTART:19701025T030000
RRULE:FREQ=YEARLY;BYMONTH=10;BYDAY=-1SU
END:STANDARD
END:VTIMEZONE
END:VCALENDAR
