BEGIN:VCALENDAR
VERSION:2.0
PRODID:-//urbanstudio//ICS Generator//EN
CALSCALE:GREGORIAN
METHOD:PUBLISH
BEGIN:VEVENT
UID:f224a607-25cf-d97c-d5ba-0942e2d2e1af
DTSTAMP:20260422T130019Z
SEQUENCE:0
SUMMARY:CR  - Gastro - Gastro- und Abdominaldiagnostik
DTSTART;TZID=Europe/Berlin:20230518T090000
DTEND;TZID=Europe/Berlin:20230518T093000
DESCRIPTION:Veranstaltung des 104. Deutscher Röntgenkongress\n\nProgramm:\
 n\n- Die dislozierte PEG – seltene Differentialdiagnose einer Cholestase\
 n- Peritoneale diffuse Leiomyomatose - eine seltene Komplikation nach lapar
 oskopischer Hysterektomie.\n- Spinale Tuberkulose - Eine interdisziplinäre
  Versorgung\n- Behandlung einer ischämischen Dünndarmnekrose nach Roux-en
 -Y-Magenbypass bei einer 28-wöchigen schwangeren Frau mit Ehlers-Danlos-Kr
 ankheit\n- Diskussion\n\nWeitere Informationen: https://2023.roentgenkongre
 ss.de/veranstaltung/gastro-und-abdominaldiagnostik/\n
LOCATION:RöntgenFORUM\, Rhein-Main CongressCenter\, Wiesbaden
BEGIN:VALARM
TRIGGER:-PT15M
ACTION:DISPLAY
DESCRIPTION:Erinnerung
END:VALARM
COMMENT: (Ihre Notizen)
END:VEVENT
BEGIN:VTIMEZONE
TZID:Europe/Berlin
BEGIN:DAYLIGHT
TZOFFSETFROM:+0100
TZOFFSETTO:+0200
TZNAME:Daylight
DTSTART:19700329T020000
RRULE:FREQ=YEARLY;BYMONTH=3;BYDAY=-1SU
END:DAYLIGHT
BEGIN:STANDARD
TZOFFSETFROM:+0200
TZOFFSETTO:+0100
TZNAME:Standard
DTSTART:19701025T030000
RRULE:FREQ=YEARLY;BYMONTH=10;BYDAY=-1SU
END:STANDARD
END:VTIMEZONE
END:VCALENDAR
