BEGIN:VCALENDAR
VERSION:2.0
PRODID:-//urbanstudio//ICS Generator//EN
CALSCALE:GREGORIAN
METHOD:PUBLISH
BEGIN:VEVENT
UID:f021e465-d05b-f76e-81c5-e3fdc64d0b5f
DTSTAMP:20260425T192431Z
SEQUENCE:0
SUMMARY:WISS 101 - Ganzkörperdiagnostik / Kohortenstudien I
DTSTART;TZID=Europe/Berlin:20230517T141500
DTEND;TZID=Europe/Berlin:20230517T150000
DESCRIPTION:Veranstaltung des 104. Deutscher Röntgenkongress\n\nProgramm:\
 n\n- Klassifikation von Nebenbefunden in der Ganzkörper-Computertomographi
 e\n- Können wir KI vertrauen? Vergleich von KI-Software-Tools zur automati
 schen Erkennung\, Quantifizierung und Kategorisierung von Lungenknoten in d
 er HANSE-LCS-Studie\n- Assoziation von Myosteatose und beeinträchtigtem Gl
 ukosestoffwechsel: Ein Deep-Learning-Ansatz zur Ganzkörper-MRT-Phänotypis
 ierung\n- Verfettung der autochthonen Rückenmuskulatur als signifikanter R
 isikofaktor für nicht-traumatisch bedingte Wirbelkörperfrakturen\n- Assoz
 iationen zwischen Nebennierenvolumen und Fettdepot-Kompartimente – eine a
 uf MR-Bildgebung basierende Studie\n- Diskussion\n\nWeitere Informationen: 
 https://2023.roentgenkongress.de/veranstaltung/ganzkoerperdiagnostik-kohort
 enstudien-i/\n
LOCATION:Studio 1.1\, Rhein-Main CongressCenter\, Wiesbaden
BEGIN:VALARM
TRIGGER:-PT15M
ACTION:DISPLAY
DESCRIPTION:Erinnerung
END:VALARM
COMMENT: (Ihre Notizen)
END:VEVENT
BEGIN:VTIMEZONE
TZID:Europe/Berlin
BEGIN:DAYLIGHT
TZOFFSETFROM:+0100
TZOFFSETTO:+0200
TZNAME:Daylight
DTSTART:19700329T020000
RRULE:FREQ=YEARLY;BYMONTH=3;BYDAY=-1SU
END:DAYLIGHT
BEGIN:STANDARD
TZOFFSETFROM:+0200
TZOFFSETTO:+0100
TZNAME:Standard
DTSTART:19701025T030000
RRULE:FREQ=YEARLY;BYMONTH=10;BYDAY=-1SU
END:STANDARD
END:VTIMEZONE
END:VCALENDAR
