BEGIN:VCALENDAR
VERSION:2.0
PRODID:-//urbanstudio//ICS Generator//EN
CALSCALE:GREGORIAN
METHOD:PUBLISH
BEGIN:VEVENT
UID:f023439e-b75b-7b22-2152-10a6981d868f
DTSTAMP:20260421T102406Z
SEQUENCE:0
SUMMARY:WISS 305 - Experimentelle Radiologie II - Die neuesten Forschungsid
 een
DTSTART;TZID=Europe/Berlin:20230519T140000
DTEND;TZID=Europe/Berlin:20230519T150400
DESCRIPTION:Veranstaltung des 104. Deutscher Röntgenkongress\n\nProgramm:\
 n\n- Analyse von Fixierungsmaterialien im Mikro-CT: Es muss nicht immer Sty
 ropor sein.\n- Dunkelfeld-Computertomographie - Erster Proof of Principle i
 n einem Human CT\n- Genauigkeit der Iodquantifzierung mittels Spectral Dete
 ktor CT in der klinischen Routine - A real world study\n- Benchmarking a no
 vel intravascular Tantalum Oxide-based CT Contrast agent in a multiphase pr
 otocol: preliminary results of a preclinical study\n- BODIPY nanostructures
  as a contrast agent for Multispectral Optoacoustic Tomography (MSOT)\n- Di
 skussion\n\nWeitere Informationen: https://2023.roentgenkongress.de/veranst
 altung/experimentelle-radiologie-ii-die-neuesten-forschungsideen/\n
LOCATION:RöntgenFORUM\, Rhein-Main CongressCenter\, Wiesbaden
BEGIN:VALARM
TRIGGER:-PT15M
ACTION:DISPLAY
DESCRIPTION:Erinnerung
END:VALARM
COMMENT: (Ihre Notizen)
END:VEVENT
BEGIN:VTIMEZONE
TZID:Europe/Berlin
BEGIN:DAYLIGHT
TZOFFSETFROM:+0100
TZOFFSETTO:+0200
TZNAME:Daylight
DTSTART:19700329T020000
RRULE:FREQ=YEARLY;BYMONTH=3;BYDAY=-1SU
END:DAYLIGHT
BEGIN:STANDARD
TZOFFSETFROM:+0200
TZOFFSETTO:+0100
TZNAME:Standard
DTSTART:19701025T030000
RRULE:FREQ=YEARLY;BYMONTH=10;BYDAY=-1SU
END:STANDARD
END:VTIMEZONE
END:VCALENDAR
