BEGIN:VCALENDAR
VERSION:2.0
PRODID:-//urbanstudio//ICS Generator//EN
CALSCALE:GREGORIAN
METHOD:PUBLISH
BEGIN:VEVENT
UID:14c41fb4-2971-4612-95f0-dc4775f7169a
DTSTAMP:20260421T124529Z
SEQUENCE:0
SUMMARY:WS 207 - Digitale Mammographie: Fallsammlung
DTSTART;TZID=Europe/Berlin:20230518T173000
DTEND;TZID=Europe/Berlin:20230518T183000
DESCRIPTION:Veranstaltung des 104. Deutscher Röntgenkongress\n\nProgramm:\
 n\n- Brustdichte und BI-RADS in der Mammografie \n- Mammographische Befundu
 ng mit der interaktiven Lernplattform conrad\n\nWeitere Informationen: http
 s://2023.roentgenkongress.de/veranstaltung/digitale-mammographie-fallsammlu
 ng-1/\n
LOCATION:Studio 1.5 A - Workshop 2\, Rhein-Main CongressCenter\, Wiesbaden
BEGIN:VALARM
TRIGGER:-PT15M
ACTION:DISPLAY
DESCRIPTION:Erinnerung
END:VALARM
COMMENT: (Ihre Notizen)
END:VEVENT
BEGIN:VTIMEZONE
TZID:Europe/Berlin
BEGIN:DAYLIGHT
TZOFFSETFROM:+0100
TZOFFSETTO:+0200
TZNAME:Daylight
DTSTART:19700329T020000
RRULE:FREQ=YEARLY;BYMONTH=3;BYDAY=-1SU
END:DAYLIGHT
BEGIN:STANDARD
TZOFFSETFROM:+0200
TZOFFSETTO:+0100
TZNAME:Standard
DTSTART:19701025T030000
RRULE:FREQ=YEARLY;BYMONTH=10;BYDAY=-1SU
END:STANDARD
END:VTIMEZONE
END:VCALENDAR
