BEGIN:VCALENDAR
VERSION:2.0
PRODID:-//urbanstudio//ICS Generator//EN
CALSCALE:GREGORIAN
METHOD:PUBLISH
BEGIN:VEVENT
UID:f3b47e4b-1366-d10b-c6bd-0cf1a1abd1ce
DTSTAMP:20260421T021952Z
SEQUENCE:0
SUMMARY:IND-WS 304 - contextflow GmbH - Deep Learning für Quantifizierung 
 und Vorhersage - Verankerung von Diagnose und Prognose in der Evidenz
DTSTART;TZID=Europe/Berlin:20230519T130000
DTEND;TZID=Europe/Berlin:20230519T134500
DESCRIPTION:Industrie-Workshop auf dem 104. Deutscher Röntgenkongress\nEin
 e Veranstaltung von: \n\nProgramm:\n\n\nWeitere Informationen: https://2023
 .roentgenkongress.de/veranstaltung/contextflow-gmbh-deep-learning-fuer-quan
 tifizierung-und-vorhersage-verankerung-von-diagnose-und-prognose-in-der-evi
 denz/\n
LOCATION:Loge 2.1\, Rhein-Main CongressCenter\, Wiesbaden
BEGIN:VALARM
TRIGGER:-PT15M
ACTION:DISPLAY
DESCRIPTION:Erinnerung
END:VALARM
COMMENT: (Ihre Notizen)
END:VEVENT
BEGIN:VTIMEZONE
TZID:Europe/Berlin
BEGIN:DAYLIGHT
TZOFFSETFROM:+0100
TZOFFSETTO:+0200
TZNAME:Daylight
DTSTART:19700329T020000
RRULE:FREQ=YEARLY;BYMONTH=3;BYDAY=-1SU
END:DAYLIGHT
BEGIN:STANDARD
TZOFFSETFROM:+0200
TZOFFSETTO:+0100
TZNAME:Standard
DTSTART:19701025T030000
RRULE:FREQ=YEARLY;BYMONTH=10;BYDAY=-1SU
END:STANDARD
END:VTIMEZONE
END:VCALENDAR
