BEGIN:VCALENDAR
VERSION:2.0
PRODID:-//urbanstudio//ICS Generator//EN
CALSCALE:GREGORIAN
METHOD:PUBLISH
BEGIN:VEVENT
UID:a1634499-1800-42cb-b9b8-fec32fd6745d
DTSTAMP:20260420T103358Z
SEQUENCE:0
SUMMARY:Highlight 204 - Breast Imaging: Screening 
DTSTART;TZID=Europe/Berlin:20230518T113000
DTEND;TZID=Europe/Berlin:20230518T124500
DESCRIPTION:Veranstaltung des 104. Deutscher Röntgenkongress\n\nProgramm:\
 n\n- Intelligent use of artificial intelligence in breast imaging\n- Screen
 ing for breast cancer and new EUSOBI guideline \n- Diskussion\n\nWeitere In
 formationen: https://2023.roentgenkongress.de/veranstaltung/breast-imaging-
 screening/\n
LOCATION:Terrassensaal E\, Rhein-Main CongressCenter\, Wiesbaden
BEGIN:VALARM
TRIGGER:-PT15M
ACTION:DISPLAY
DESCRIPTION:Erinnerung
END:VALARM
COMMENT: (Ihre Notizen)
END:VEVENT
BEGIN:VTIMEZONE
TZID:Europe/Berlin
BEGIN:DAYLIGHT
TZOFFSETFROM:+0100
TZOFFSETTO:+0200
TZNAME:Daylight
DTSTART:19700329T020000
RRULE:FREQ=YEARLY;BYMONTH=3;BYDAY=-1SU
END:DAYLIGHT
BEGIN:STANDARD
TZOFFSETFROM:+0200
TZOFFSETTO:+0100
TZNAME:Standard
DTSTART:19701025T030000
RRULE:FREQ=YEARLY;BYMONTH=10;BYDAY=-1SU
END:STANDARD
END:VTIMEZONE
END:VCALENDAR
