BEGIN:VCALENDAR
VERSION:2.0
PRODID:-//urbanstudio//ICS Generator//EN
CALSCALE:GREGORIAN
METHOD:PUBLISH
BEGIN:VEVENT
UID:c2715a19-d83e-4898-b12e-f681909d4087
DTSTAMP:20260423T131359Z
SEQUENCE:0
SUMMARY:FFD 101 - Body-Session - Beispiele der interdisziplinären Patient*
 innenversorgung im Dienst und die Rolle der Radiologie
DTSTART;TZID=Europe/Berlin:20230517T161500
DTEND;TZID=Europe/Berlin:20230517T174500
DESCRIPTION:Veranstaltung des 104. Deutscher Röntgenkongress\n\nProgramm:\
 n\n- Drainagenanlage im Dienst -  What to drain and how to drain it\n- Nied
 rigrasanztrauma & Liegetrauma\n- Gynäkologische Notfälle\n- Diskussion\n\
 nWeitere Informationen: https://2023.roentgenkongress.de/veranstaltung/body
 -session-beispiele-der-interdisziplinaeren-patientinnenversorgung-im-dienst
 -und-die-rolle-der-radiologie/\n
LOCATION:Saal Röntgen (Halle Süd/D)\, Rhein-Main CongressCenter\, Wiesbad
 en
BEGIN:VALARM
TRIGGER:-PT15M
ACTION:DISPLAY
DESCRIPTION:Erinnerung
END:VALARM
COMMENT: (Ihre Notizen)
END:VEVENT
BEGIN:VTIMEZONE
TZID:Europe/Berlin
BEGIN:DAYLIGHT
TZOFFSETFROM:+0100
TZOFFSETTO:+0200
TZNAME:Daylight
DTSTART:19700329T020000
RRULE:FREQ=YEARLY;BYMONTH=3;BYDAY=-1SU
END:DAYLIGHT
BEGIN:STANDARD
TZOFFSETFROM:+0200
TZOFFSETTO:+0100
TZNAME:Standard
DTSTART:19701025T030000
RRULE:FREQ=YEARLY;BYMONTH=10;BYDAY=-1SU
END:STANDARD
END:VTIMEZONE
END:VCALENDAR
