BEGIN:VCALENDAR
VERSION:2.0
PRODID:-//urbanstudio//ICS Generator//EN
CALSCALE:GREGORIAN
METHOD:PUBLISH
BEGIN:VEVENT
UID:37d40147-dfc7-40e5-913a-4b86998f8526
DTSTAMP:20260423T072945Z
SEQUENCE:0
SUMMARY:MTR 204 - Abenteuer Forschung ... auch für MTR!
DTSTART;TZID=Europe/Berlin:20230518T153000
DTEND;TZID=Europe/Berlin:20230518T170000
DESCRIPTION:Veranstaltung des 104. Deutscher Röntgenkongress\n\nProgramm:\
 n\n- Forschung & Wissenschaft - auch für MTR?\n- Evidence-based Radiograph
 y - Erfahrungen aus Österreich\n- MTR-Forschungsprojekt Deep Learning\n- F
 okussierter Ultraschall - neue Therapie gegen Mb. Parkinson (am MRT)\n- Dis
 kussion\n\nWeitere Informationen: https://2023.roentgenkongress.de/veransta
 ltung/abenteuer-forschung-auch-fuer-mtr/\n
LOCATION:Terrassensaal B\, Rhein-Main CongressCenter\, Wiesbaden
BEGIN:VALARM
TRIGGER:-PT15M
ACTION:DISPLAY
DESCRIPTION:Erinnerung
END:VALARM
COMMENT: (Ihre Notizen)
END:VEVENT
BEGIN:VTIMEZONE
TZID:Europe/Berlin
BEGIN:DAYLIGHT
TZOFFSETFROM:+0100
TZOFFSETTO:+0200
TZNAME:Daylight
DTSTART:19700329T020000
RRULE:FREQ=YEARLY;BYMONTH=3;BYDAY=-1SU
END:DAYLIGHT
BEGIN:STANDARD
TZOFFSETFROM:+0200
TZOFFSETTO:+0100
TZNAME:Standard
DTSTART:19701025T030000
RRULE:FREQ=YEARLY;BYMONTH=10;BYDAY=-1SU
END:STANDARD
END:VTIMEZONE
END:VCALENDAR
